BEGIN:VCALENDAR
VERSION:2.0
PRODID:-//Peru Consult - ECPv6.9.1//NONSGML v1.0//EN
CALSCALE:GREGORIAN
METHOD:PUBLISH
X-WR-CALNAME:Peru Consult
X-ORIGINAL-URL:https://peruconsult.de
X-WR-CALDESC:Veranstaltungen für Peru Consult
REFRESH-INTERVAL;VALUE=DURATION:PT1H
X-Robots-Tag:noindex
X-PUBLISHED-TTL:PT1H
BEGIN:VTIMEZONE
TZID:Europe/Berlin
BEGIN:DAYLIGHT
TZOFFSETFROM:+0100
TZOFFSETTO:+0200
TZNAME:CEST
DTSTART:20240331T010000
END:DAYLIGHT
BEGIN:STANDARD
TZOFFSETFROM:+0200
TZOFFSETTO:+0100
TZNAME:CET
DTSTART:20241027T010000
END:STANDARD
END:VTIMEZONE
BEGIN:VEVENT
DTSTART;TZID=Europe/Berlin:20240207T100000
DTEND;TZID=Europe/Berlin:20240207T160000
DTSTAMP:20260424T143510
CREATED:20231215T162507Z
LAST-MODIFIED:20231215T162507Z
UID:10765-1707300000-1707321600@peruconsult.de
SUMMARY:Fruit Logistica Berlin - Messerundgang
DESCRIPTION:
URL:https://peruconsult.de/event/fruit-logistica-berlin-messerundgang/
END:VEVENT
BEGIN:VEVENT
DTSTART;TZID=Europe/Berlin:20240213T080000
DTEND;TZID=Europe/Berlin:20240213T170000
DTSTAMP:20260424T143510
CREATED:20231215T162616Z
LAST-MODIFIED:20231215T162616Z
UID:10767-1707811200-1707843600@peruconsult.de
SUMMARY:Biofach Nürnberg  - Messerundgang
DESCRIPTION:
URL:https://peruconsult.de/event/biofach-nuernberg-messerundgang/
END:VEVENT
END:VCALENDAR